BEGIN:VCALENDAR
VERSION:2.0
PRODID:-//Linwood-Bay Sportsman&#039;s Club - ECPv6.15.20//NONSGML v1.0//EN
CALSCALE:GREGORIAN
METHOD:PUBLISH
X-WR-CALNAME:Linwood-Bay Sportsman&#039;s Club
X-ORIGINAL-URL:https://linwoodbaysportsmans.com
X-WR-CALDESC:Events for Linwood-Bay Sportsman&#039;s Club
REFRESH-INTERVAL;VALUE=DURATION:PT1H
X-Robots-Tag:noindex
X-PUBLISHED-TTL:PT1H
BEGIN:VTIMEZONE
TZID:America/Detroit
BEGIN:DAYLIGHT
TZOFFSETFROM:-0500
TZOFFSETTO:-0400
TZNAME:EDT
DTSTART:20230312T070000
END:DAYLIGHT
BEGIN:STANDARD
TZOFFSETFROM:-0400
TZOFFSETTO:-0500
TZNAME:EST
DTSTART:20231105T060000
END:STANDARD
BEGIN:DAYLIGHT
TZOFFSETFROM:-0500
TZOFFSETTO:-0400
TZNAME:EDT
DTSTART:20240310T070000
END:DAYLIGHT
BEGIN:STANDARD
TZOFFSETFROM:-0400
TZOFFSETTO:-0500
TZNAME:EST
DTSTART:20241103T060000
END:STANDARD
BEGIN:DAYLIGHT
TZOFFSETFROM:-0500
TZOFFSETTO:-0400
TZNAME:EDT
DTSTART:20250309T070000
END:DAYLIGHT
BEGIN:STANDARD
TZOFFSETFROM:-0400
TZOFFSETTO:-0500
TZNAME:EST
DTSTART:20251102T060000
END:STANDARD
BEGIN:DAYLIGHT
TZOFFSETFROM:-0500
TZOFFSETTO:-0400
TZNAME:EDT
DTSTART:20260308T070000
END:DAYLIGHT
BEGIN:STANDARD
TZOFFSETFROM:-0400
TZOFFSETTO:-0500
TZNAME:EST
DTSTART:20261101T060000
END:STANDARD
BEGIN:DAYLIGHT
TZOFFSETFROM:-0500
TZOFFSETTO:-0400
TZNAME:EDT
DTSTART:20270314T070000
END:DAYLIGHT
BEGIN:STANDARD
TZOFFSETFROM:-0400
TZOFFSETTO:-0500
TZNAME:EST
DTSTART:20271107T060000
END:STANDARD
END:VTIMEZONE
BEGIN:VEVENT
DTSTART;TZID=America/Detroit:20240914T090000
DTEND;TZID=America/Detroit:20240914T140000
DTSTAMP:20260422T185058
CREATED:20240126T141526Z
LAST-MODIFIED:20240308T170953Z
UID:10000984-1726304400-1726322400@linwoodbaysportsmans.com
SUMMARY:League Match
DESCRIPTION:RANGE IS LOCATED IN INDIANTOWN\, ON NORTH SIDE OF KINNY/KRABBE ROAD. KINNEY/KRABBE RD. IS APPROX.\n2 ½ MILES NORTH OF M – 81\, BETWEEN PORTSMOUTH AND KNIGHT ROADS. (800 W. Kinney Rd.\,Munger\, Mi.)\nFEES: $10.00 PER MATCH FIRED.\nCONTACT FOR MATCHES: KYLE MATZELLE (989) 307-2246 (Voice or Text)\nTHE COURSE OF FIRE FOR THE 80 SHOT MATCHES WILL BE:\n20 SHOTS FOR RECORD PLUS TWO SIGHTERS – SLOW FIRE – STANDING.\n20 SHOTS FOR RECORD PLUS TWO SIGHTERS – RAPID FIRE SITTING\, RAPID FIRE PRONE\, SLOW FIRE PRONE.\nTHE COURSE OF FIRE FOR THE 40(50) SHOT MATCHES WILL BE:\n10 SHOTS FOR RECORD PLUS TWO SIGHTERS – SLOW FIRE – STANDING\n10 SHOTS FOR RECORD PLUS TWO SIGHTERS – RAPID FIRE SITTING\, RAPID FIRE PRONE\, SLOW FIRE PRONE(20).\nALL LEAGUES MATCHES WILL BE FROM 200 YARDS USING NRA REDUCED BULL TARGETS FOR 300 AND 600 STAGES.\n NRA Rules will be in effect for all matches.\n Rule 9-12 (No Refires) is in effect with the exception of one refire per competitor per match allowed for RULES 9.4\, 9.5\, 9.6\, 9.6.1. See Bylaws.\n We will be allowing the DAY TARGET Program this year\, See Bylaws.\n League Awards will be based on the best 5 of League Matches Fired.\nShooters have the option of shooting 40 SHOTS for record in place of 80 but must score for 80 shots if necessary
URL:https://linwoodbaysportsmans.com/event/league-match-9/
LOCATION:Munger / Kinney Rd Range\, 700 W Kinney Road\, Munger\, MI\, 48747\, United States
CATEGORIES:Big Bore Rifle
ORGANIZER;CN="Kyle Matzelle":MAILTO:kyle.matzelle@gmail.com
END:VEVENT
BEGIN:VEVENT
DTSTART;TZID=America/Detroit:20240928T090000
DTEND;TZID=America/Detroit:20240928T150000
DTSTAMP:20260422T185058
CREATED:20240126T125320Z
LAST-MODIFIED:20240315T122259Z
UID:10001160-1727514000-1727535600@linwoodbaysportsmans.com
SUMMARY:CMP Garand/Springfield/Vintage Bolt/Modern Military
DESCRIPTION:LOCATION: 800 W. Kinney Road\, Munger\, MI 48747\nSQUADDING: 9:30am\nFIRING BEGINS: 10:00am\nCONTACT: Kyle Matzelle 989-307-2246 \nCOURSE OF FIRE: GARAND COURSE A. \n\n5 Sighters (Can be taken in any position)\n10 Shots Slow Prone\n10 Shots Rapid Prone\n10 Shots Offhand.\n\nMATCH IS FIRED AT 200 YARDS USING AN SR TARGET (SHOTMARKER E-TARGET)
URL:https://linwoodbaysportsmans.com/event/league-match-4/2024-09-28/
LOCATION:Munger / Kinney Rd Range\, 700 W Kinney Road\, Munger\, MI\, 48747\, United States
CATEGORIES:Big Bore Rifle
ORGANIZER;CN="Kyle Matzelle":MAILTO:kyle.matzelle@gmail.com
END:VEVENT
BEGIN:VEVENT
DTSTART;TZID=America/Detroit:20240929T090000
DTEND;TZID=America/Detroit:20240929T140000
DTSTAMP:20260422T185058
CREATED:20240308T165537Z
LAST-MODIFIED:20240308T165537Z
UID:10001161-1727600400-1727618400@linwoodbaysportsmans.com
SUMMARY:22 LR Fun Match
DESCRIPTION:Match is fired at 100 Yards. 22 Long Rifle Only. Program TBD
URL:https://linwoodbaysportsmans.com/event/22-lr-fun-match/
LOCATION:Munger / Kinney Rd Range\, 700 W Kinney Road\, Munger\, MI\, 48747\, United States
CATEGORIES:Big Bore Rifle
ORGANIZER;CN="Kyle Matzelle":MAILTO:kyle.matzelle@gmail.com
END:VEVENT
BEGIN:VEVENT
DTSTART;VALUE=DATE:20241102
DTEND;VALUE=DATE:20241103
DTSTAMP:20260422T185058
CREATED:20240308T165841Z
LAST-MODIFIED:20240308T165841Z
UID:10001162-1730505600-1730591999@linwoodbaysportsmans.com
SUMMARY:Sight In Days
DESCRIPTION:100 Yard. Open to Public. Cost $5.00 per Rifle Fired \n\n\n\n\n\nThis event is from 9:00am to 4:00pm
URL:https://linwoodbaysportsmans.com/event/sight-in-days/2024-11-02/1/
LOCATION:Munger / Kinney Rd Range\, 700 W Kinney Road\, Munger\, MI\, 48747\, United States
CATEGORIES:Big Bore Rifle
ORGANIZER;CN="Kyle Matzelle":MAILTO:kyle.matzelle@gmail.com
END:VEVENT
BEGIN:VEVENT
DTSTART;VALUE=DATE:20241102
DTEND;VALUE=DATE:20241103
DTSTAMP:20260422T185058
CREATED:20240308T165841Z
LAST-MODIFIED:20240308T165841Z
UID:10001163-1730534400-1730566800@linwoodbaysportsmans.com
SUMMARY:Sight In Days
DESCRIPTION:100 Yard. Open to Public. Cost $5.00 per Rifle Fired \n\n\n\n\n\nThis event is from 9:00am to 4:00pm
URL:https://linwoodbaysportsmans.com/event/sight-in-days/2024-11-02/2/
LOCATION:Munger / Kinney Rd Range\, 700 W Kinney Road\, Munger\, MI\, 48747\, United States
CATEGORIES:Big Bore Rifle
ORGANIZER;CN="Kyle Matzelle":MAILTO:kyle.matzelle@gmail.com
END:VEVENT
BEGIN:VEVENT
DTSTART;VALUE=DATE:20241103
DTEND;VALUE=DATE:20241104
DTSTAMP:20260422T185058
CREATED:20240308T165841Z
LAST-MODIFIED:20240308T165841Z
UID:10001164-1730620800-1730653200@linwoodbaysportsmans.com
SUMMARY:Sight In Days
DESCRIPTION:100 Yard. Open to Public. Cost $5.00 per Rifle Fired \n\n\n\n\n\nThis event is from 9:00am to 4:00pm
URL:https://linwoodbaysportsmans.com/event/sight-in-days/2024-11-03/
LOCATION:Munger / Kinney Rd Range\, 700 W Kinney Road\, Munger\, MI\, 48747\, United States
CATEGORIES:Big Bore Rifle
ORGANIZER;CN="Kyle Matzelle":MAILTO:kyle.matzelle@gmail.com
END:VEVENT
BEGIN:VEVENT
DTSTART;VALUE=DATE:20241109
DTEND;VALUE=DATE:20241110
DTSTAMP:20260422T185058
CREATED:20240308T165841Z
LAST-MODIFIED:20240308T165841Z
UID:10001165-1731139200-1731171600@linwoodbaysportsmans.com
SUMMARY:Sight In Days
DESCRIPTION:100 Yard. Open to Public. Cost $5.00 per Rifle Fired \n\n\n\n\n\nThis event is from 9:00am to 4:00pm
URL:https://linwoodbaysportsmans.com/event/sight-in-days/2024-11-09/
LOCATION:Munger / Kinney Rd Range\, 700 W Kinney Road\, Munger\, MI\, 48747\, United States
CATEGORIES:Big Bore Rifle
ORGANIZER;CN="Kyle Matzelle":MAILTO:kyle.matzelle@gmail.com
END:VEVENT
BEGIN:VEVENT
DTSTART;TZID=America/Detroit:20250426T090000
DTEND;TZID=America/Detroit:20250426T140000
DTSTAMP:20260422T185058
CREATED:20250418T173813Z
LAST-MODIFIED:20250418T173906Z
UID:10001449-1745658000-1745676000@linwoodbaysportsmans.com
SUMMARY:Munger Range Cleanup
DESCRIPTION:Range Cleanup – Target repair April 26th 9AM till finished
URL:https://linwoodbaysportsmans.com/event/munger-range-cleanup-2/
LOCATION:Munger / Kinney Rd Range\, 700 W Kinney Road\, Munger\, MI\, 48747\, United States
CATEGORIES:Big Bore Rifle
ORGANIZER;CN="Kyle Matzelle":MAILTO:kyle.matzelle@gmail.com
END:VEVENT
BEGIN:VEVENT
DTSTART;TZID=America/Detroit:20250510T093000
DTEND;TZID=America/Detroit:20250510T120000
DTSTAMP:20260422T185058
CREATED:20250418T174840Z
LAST-MODIFIED:20250418T174840Z
UID:10001450-1746869400-1746878400@linwoodbaysportsmans.com
SUMMARY:Springfield/Garand/Vintage /Modern Military/CMP
DESCRIPTION:Big Bore Rifle Match- Contact Kyle Matzelle for details. \n\n\n\nkyle.matzelle@gmail.com\n  989-307-2246
URL:https://linwoodbaysportsmans.com/event/springfield-garand-vintage-modern-military-cmp/2025-05-10/
LOCATION:Munger / Kinney Rd Range\, 700 W Kinney Road\, Munger\, MI\, 48747\, United States
CATEGORIES:Big Bore Rifle
ORGANIZER;CN="Kyle Matzelle":MAILTO:kyle.matzelle@gmail.com
END:VEVENT
BEGIN:VEVENT
DTSTART;TZID=America/Detroit:20250524T093000
DTEND;TZID=America/Detroit:20250525T140000
DTSTAMP:20260422T185058
CREATED:20250418T175731Z
LAST-MODIFIED:20250615T174725Z
UID:10001725-1748079000-1748181600@linwoodbaysportsmans.com
SUMMARY:Big Bore League Match
DESCRIPTION:Contact Kyle Matzelle for details \n\n\n\nkyle.matzelle@gmail.com\n989-307-2246\n\n\n\n 
URL:https://linwoodbaysportsmans.com/event/big-bore-league-match/2025-05-24/
LOCATION:Munger / Kinney Rd Range\, 700 W Kinney Road\, Munger\, MI\, 48747\, United States
CATEGORIES:Big Bore Rifle
ORGANIZER;CN="Kyle Matzelle":MAILTO:kyle.matzelle@gmail.com
END:VEVENT
BEGIN:VEVENT
DTSTART;TZID=America/Detroit:20250614T093000
DTEND;TZID=America/Detroit:20250614T120000
DTSTAMP:20260422T185058
CREATED:20250418T174840Z
LAST-MODIFIED:20250418T174840Z
UID:10001451-1749893400-1749902400@linwoodbaysportsmans.com
SUMMARY:Springfield/Garand/Vintage /Modern Military/CMP
DESCRIPTION:Big Bore Rifle Match- Contact Kyle Matzelle for details. \n\n\n\nkyle.matzelle@gmail.com\n  989-307-2246
URL:https://linwoodbaysportsmans.com/event/springfield-garand-vintage-modern-military-cmp/2025-06-14/
LOCATION:Munger / Kinney Rd Range\, 700 W Kinney Road\, Munger\, MI\, 48747\, United States
CATEGORIES:Big Bore Rifle
ORGANIZER;CN="Kyle Matzelle":MAILTO:kyle.matzelle@gmail.com
END:VEVENT
BEGIN:VEVENT
DTSTART;TZID=America/Detroit:20250622T080000
DTEND;TZID=America/Detroit:20250622T170000
DTSTAMP:20260422T185058
CREATED:20250615T174445Z
LAST-MODIFIED:20250615T174445Z
UID:10001732-1750579200-1750611600@linwoodbaysportsmans.com
SUMMARY:Big Bore League
DESCRIPTION:Contact Kyle Matzelle for details \n\n\n\nkyle.matzelle@gmail.com\n989-307-2246
URL:https://linwoodbaysportsmans.com/event/big-bore-league/
LOCATION:Munger / Kinney Rd Range\, 700 W Kinney Road\, Munger\, MI\, 48747\, United States
CATEGORIES:Big Bore Rifle
ORGANIZER;CN="Ted Beauchamp":MAILTO:tbmi24@gmail.com
END:VEVENT
BEGIN:VEVENT
DTSTART;TZID=America/Detroit:20250719T080000
DTEND;TZID=America/Detroit:20250719T170000
DTSTAMP:20260422T185058
CREATED:20250418T174840Z
LAST-MODIFIED:20250418T174840Z
UID:10001452-1752912000-1752944400@linwoodbaysportsmans.com
SUMMARY:Springfield/Garand/Vintage /Modern Military/CMP
DESCRIPTION:Big Bore Rifle Match- Contact Kyle Matzelle for details. \n\n\n\nkyle.matzelle@gmail.com\n  989-307-2246
URL:https://linwoodbaysportsmans.com/event/springfield-garand-vintage-modern-military-cmp/2025-07-19/
LOCATION:Munger / Kinney Rd Range\, 700 W Kinney Road\, Munger\, MI\, 48747\, United States
CATEGORIES:Big Bore Rifle
ORGANIZER;CN="Kyle Matzelle":MAILTO:kyle.matzelle@gmail.com
END:VEVENT
BEGIN:VEVENT
DTSTART;TZID=America/Detroit:20250720T080000
DTEND;TZID=America/Detroit:20250720T170000
DTSTAMP:20260422T185058
CREATED:20250418T175731Z
LAST-MODIFIED:20250615T174725Z
UID:10001727-1752998400-1753030800@linwoodbaysportsmans.com
SUMMARY:Big Bore League Match
DESCRIPTION:Contact Kyle Matzelle for details \n\n\n\nkyle.matzelle@gmail.com\n989-307-2246\n\n\n\n 
URL:https://linwoodbaysportsmans.com/event/big-bore-league-match/2025-07-20/
LOCATION:Munger / Kinney Rd Range\, 700 W Kinney Road\, Munger\, MI\, 48747\, United States
CATEGORIES:Big Bore Rifle
ORGANIZER;CN="Kyle Matzelle":MAILTO:kyle.matzelle@gmail.com
END:VEVENT
BEGIN:VEVENT
DTSTART;TZID=America/Detroit:20250816T080000
DTEND;TZID=America/Detroit:20250816T170000
DTSTAMP:20260422T185058
CREATED:20250418T175731Z
LAST-MODIFIED:20250615T174725Z
UID:10001728-1755331200-1755363600@linwoodbaysportsmans.com
SUMMARY:Big Bore League Match
DESCRIPTION:Contact Kyle Matzelle for details \n\n\n\nkyle.matzelle@gmail.com\n989-307-2246\n\n\n\n 
URL:https://linwoodbaysportsmans.com/event/big-bore-league-match/2025-08-16/
LOCATION:Munger / Kinney Rd Range\, 700 W Kinney Road\, Munger\, MI\, 48747\, United States
CATEGORIES:Big Bore Rifle
ORGANIZER;CN="Kyle Matzelle":MAILTO:kyle.matzelle@gmail.com
END:VEVENT
BEGIN:VEVENT
DTSTART;TZID=America/Detroit:20250913T080000
DTEND;TZID=America/Detroit:20250913T170000
DTSTAMP:20260422T185058
CREATED:20250418T175731Z
LAST-MODIFIED:20250615T174725Z
UID:10001729-1757750400-1757782800@linwoodbaysportsmans.com
SUMMARY:Big Bore League Match
DESCRIPTION:Contact Kyle Matzelle for details \n\n\n\nkyle.matzelle@gmail.com\n989-307-2246\n\n\n\n 
URL:https://linwoodbaysportsmans.com/event/big-bore-league-match/2025-09-13/
LOCATION:Munger / Kinney Rd Range\, 700 W Kinney Road\, Munger\, MI\, 48747\, United States
CATEGORIES:Big Bore Rifle
ORGANIZER;CN="Kyle Matzelle":MAILTO:kyle.matzelle@gmail.com
END:VEVENT
BEGIN:VEVENT
DTSTART;TZID=America/Detroit:20250927T080000
DTEND;TZID=America/Detroit:20250927T170000
DTSTAMP:20260422T185058
CREATED:20250418T174840Z
LAST-MODIFIED:20250418T174840Z
UID:10001453-1758960000-1758992400@linwoodbaysportsmans.com
SUMMARY:Springfield/Garand/Vintage /Modern Military/CMP
DESCRIPTION:Big Bore Rifle Match- Contact Kyle Matzelle for details. \n\n\n\nkyle.matzelle@gmail.com\n  989-307-2246
URL:https://linwoodbaysportsmans.com/event/springfield-garand-vintage-modern-military-cmp/2025-09-27/
LOCATION:Munger / Kinney Rd Range\, 700 W Kinney Road\, Munger\, MI\, 48747\, United States
CATEGORIES:Big Bore Rifle
ORGANIZER;CN="Kyle Matzelle":MAILTO:kyle.matzelle@gmail.com
END:VEVENT
BEGIN:VEVENT
DTSTART;TZID=America/Detroit:20250928T093000
DTEND;TZID=America/Detroit:20250928T140000
DTSTAMP:20260422T185058
CREATED:20250418T180011Z
LAST-MODIFIED:20250418T180011Z
UID:10001459-1759051800-1759068000@linwoodbaysportsmans.com
SUMMARY:22 rimfire fun match and meeting
DESCRIPTION:22 rimfire at 100 yards
URL:https://linwoodbaysportsmans.com/event/22-rimfire-fun-match-and-meeting/
LOCATION:Munger / Kinney Rd Range\, 700 W Kinney Road\, Munger\, MI\, 48747\, United States
CATEGORIES:Big Bore Rifle
ORGANIZER;CN="Kyle Matzelle":MAILTO:kyle.matzelle@gmail.com
END:VEVENT
BEGIN:VEVENT
DTSTART;TZID=America/Detroit:20260516T080000
DTEND;TZID=America/Detroit:20260516T150000
DTSTAMP:20260422T185058
CREATED:20260403T163754Z
LAST-MODIFIED:20260403T163754Z
UID:10001991-1778918400-1778943600@linwoodbaysportsmans.com
SUMMARY:Garand/Vintage/Springfield Modern Military CMP 30 Shot Match
DESCRIPTION:9AM until 2PM\nSquadding begins at 9:30 Firing begins at 10AM\nCompetitors are welcome to fire at least 2 matches\, 3 if squadding/time allows.
URL:https://linwoodbaysportsmans.com/event/garand-vintage-springfield-modern-military-cmp-30-shot-match/2026-05-16/
LOCATION:Munger / Kinney Rd Range\, 700 W Kinney Road\, Munger\, MI\, 48747\, United States
CATEGORIES:Big Bore Rifle
ORGANIZER;CN="Kyle Matzelle":MAILTO:kyle.matzelle@gmail.com
END:VEVENT
BEGIN:VEVENT
DTSTART;TZID=America/Detroit:20261003T080000
DTEND;TZID=America/Detroit:20261003T170000
DTSTAMP:20260422T185058
CREATED:20260403T163754Z
LAST-MODIFIED:20260403T163754Z
UID:10001992-1791014400-1791046800@linwoodbaysportsmans.com
SUMMARY:Garand/Vintage/Springfield Modern Military CMP 30 Shot Match
DESCRIPTION:9AM until 2PM\nSquadding begins at 9:30 Firing begins at 10AM\nCompetitors are welcome to fire at least 2 matches\, 3 if squadding/time allows.
URL:https://linwoodbaysportsmans.com/event/garand-vintage-springfield-modern-military-cmp-30-shot-match/2026-10-03/
LOCATION:Munger / Kinney Rd Range\, 700 W Kinney Road\, Munger\, MI\, 48747\, United States
CATEGORIES:Big Bore Rifle
ORGANIZER;CN="Kyle Matzelle":MAILTO:kyle.matzelle@gmail.com
END:VEVENT
END:VCALENDAR